BEGIN:VCALENDAR
VERSION:2.0
PRODID:-//A. E. Quinta de Marrocos - ECPv6.0.13.1//NONSGML v1.0//EN
CALSCALE:GREGORIAN
METHOD:PUBLISH
X-ORIGINAL-URL:https://aequintademarrocos.pt
X-WR-CALDESC:Events for A. E. Quinta de Marrocos
REFRESH-INTERVAL;VALUE=DURATION:PT1H
X-Robots-Tag:noindex
X-PUBLISHED-TTL:PT1H
BEGIN:VTIMEZONE
TZID:UTC
BEGIN:STANDARD
TZOFFSETFROM:+0000
TZOFFSETTO:+0000
TZNAME:UTC
DTSTART:20230101T000000
END:STANDARD
END:VTIMEZONE
BEGIN:VEVENT
DTSTART;VALUE=DATE:20230220
DTEND;VALUE=DATE:20230222
DTSTAMP:20260426T030010
CREATED:20230228T180739Z
LAST-MODIFIED:20230228T180739Z
UID:1865-1676851200-1677023999@aequintademarrocos.pt
SUMMARY:Pausa Escolar do Carnaval
DESCRIPTION:
URL:https://aequintademarrocos.pt/evento/pausa-escolar-do-carnaval/
END:VEVENT
END:VCALENDAR